BEGIN:VCALENDAR
VERSION:2.0
PRODID:-//Daystrom Technologies - ECPv6.15.20//NONSGML v1.0//EN
CALSCALE:GREGORIAN
METHOD:PUBLISH
X-WR-CALNAME:Daystrom Technologies
X-ORIGINAL-URL:https://www.daystromtechnologies.com
X-WR-CALDESC:Events for Daystrom Technologies
REFRESH-INTERVAL;VALUE=DURATION:PT1H
X-Robots-Tag:noindex
X-PUBLISHED-TTL:PT1H
BEGIN:VTIMEZONE
TZID:America/Phoenix
BEGIN:STANDARD
TZOFFSETFROM:-0700
TZOFFSETTO:-0700
TZNAME:MST
DTSTART:20250101T000000
END:STANDARD
END:VTIMEZONE
BEGIN:VEVENT
DTSTART;TZID=America/Phoenix:20260317T110000
DTEND;TZID=America/Phoenix:20260317T140000
DTSTAMP:20260420T015701
CREATED:20221025T151822Z
LAST-MODIFIED:20260224T181905Z
UID:5189-1773745200-1773756000@www.daystromtechnologies.com
SUMMARY:What's New in GibbsCAM 2026 - Phoenix Presentation
DESCRIPTION:Join us for a presentation of what’s new in the GibbsCAM 2026 release. Please let us know if you will be joining us for lunch.
URL:https://www.daystromtechnologies.com/event/whats-new-in-gibbscam-2023-phoenix/
LOCATION:CNC Pros\, 1502 N 17th Ave\, Phoenix\, AZ\, 85007\, United States
ORGANIZER;CN="Michael Cecchini":MAILTO:michaelc@daystromtechnologies.com
END:VEVENT
END:VCALENDAR