BEGIN:VCALENDAR
VERSION:2.0
PRODID:-//Daystrom Technologies - ECPv6.15.20//NONSGML v1.0//EN
CALSCALE:GREGORIAN
METHOD:PUBLISH
X-WR-CALNAME:Daystrom Technologies
X-ORIGINAL-URL:https://www.daystromtechnologies.com
X-WR-CALDESC:Events for Daystrom Technologies
REFRESH-INTERVAL;VALUE=DURATION:PT1H
X-Robots-Tag:noindex
X-PUBLISHED-TTL:PT1H
BEGIN:VTIMEZONE
TZID:America/Denver
BEGIN:DAYLIGHT
TZOFFSETFROM:-0700
TZOFFSETTO:-0600
TZNAME:MDT
DTSTART:20250309T090000
END:DAYLIGHT
BEGIN:STANDARD
TZOFFSETFROM:-0600
TZOFFSETTO:-0700
TZNAME:MST
DTSTART:20251102T080000
END:STANDARD
BEGIN:DAYLIGHT
TZOFFSETFROM:-0700
TZOFFSETTO:-0600
TZNAME:MDT
DTSTART:20260308T090000
END:DAYLIGHT
BEGIN:STANDARD
TZOFFSETFROM:-0600
TZOFFSETTO:-0700
TZNAME:MST
DTSTART:20261101T080000
END:STANDARD
BEGIN:DAYLIGHT
TZOFFSETFROM:-0700
TZOFFSETTO:-0600
TZNAME:MDT
DTSTART:20270314T090000
END:DAYLIGHT
BEGIN:STANDARD
TZOFFSETFROM:-0600
TZOFFSETTO:-0700
TZNAME:MST
DTSTART:20271107T080000
END:STANDARD
END:VTIMEZONE
BEGIN:VEVENT
DTSTART;TZID=America/Denver:20260303T110000
DTEND;TZID=America/Denver:20260303T120000
DTSTAMP:20260424T094430
CREATED:20230726T045525Z
LAST-MODIFIED:20260224T181415Z
UID:5330-1772535600-1772539200@www.daystromtechnologies.com
SUMMARY:Turning Re-invented: Reducing roughing cycles by 30%
DESCRIPTION:In this webinar\, we will cover PrimeTurning™\, a new way of all-directional turning\, as well as Y-axis turning. Designed to offer improved machining flexibility and the potential for significant productivity gains. This innovation presents countless possibilities to create an existing turning operation in a much more efficient and productive way. \nYou don’t want to miss this webinar no matter what CAM system you are currently using
URL:https://www.daystromtechnologies.com/event/turning-re-invented-reducing-roughing-cycles-by-30/
ORGANIZER;CN="Michael Cecchini":MAILTO:michaelc@daystromtechnologies.com
END:VEVENT
BEGIN:VEVENT
DTSTART;TZID=America/Denver:20260310T110000
DTEND;TZID=America/Denver:20260310T140000
DTSTAMP:20260424T094430
CREATED:20221025T155812Z
LAST-MODIFIED:20260224T181648Z
UID:5197-1773140400-1773151200@www.daystromtechnologies.com
SUMMARY:What's New in GibbsCAM 2026 - Denver Presentation
DESCRIPTION:Join us for a presentation of what’s new in GibbsCAM 2023.  Please let us know if you will be joining us for lunch.
URL:https://www.daystromtechnologies.com/event/whats-new-in-gibbscam-2023-denver-presentation/
LOCATION:Daystrom Office – Denver\, 1805 S. Bellaire St.\, Denver\, CO\, 80222\, United States
ORGANIZER;CN="Michael Cecchini":MAILTO:michaelc@daystromtechnologies.com
END:VEVENT
BEGIN:VEVENT
DTSTART;TZID=America/Denver:20260428T090000
DTEND;TZID=America/Denver:20260428T103000
DTSTAMP:20260424T094430
CREATED:20221025T151822Z
LAST-MODIFIED:20260424T150325Z
UID:5189-1777366800-1777372200@www.daystromtechnologies.com
SUMMARY:up2parts Cockpit for GibbsCAM
DESCRIPTION:This exclusive webinar is intended for GibbsCAM customers. Marco Bauer (up2parts) will present the functionality and application scenarios of the Manufacturing Data Management System up2parts cockpit\, available free of charge to GibbsCAM customers with a valid maintenance agreement upon request. \nThe webinar is particularly recommended for production managers\, GibbsCAM users\, CAM administrators\, CNC machinists\, and anyone who needs access to production-related data. \nThe webinar will conclude with a live Q&A session.
URL:https://www.daystromtechnologies.com/event/https-events-teams-microsoft-com-event-bfc0788d-e03a-4520-bf0d-7282d1e8e4a99e9d8b96-4900-4979-adde-0858ae7b69eb/
LOCATION:Live Webinar
ORGANIZER;CN="Marco Bauer":MAILTO:marco.bauer@up2parts.com
END:VEVENT
END:VCALENDAR