BEGIN:VCALENDAR
VERSION:2.0
PRODID:-//eventon.com NONSGML v1.0//EN
CALSCALE:GREGORIAN
METHOD:PUBLISH
BEGIN:VEVENT
UID:69ebc925bccf8
DTSTAMP:20260424T134853
DTSTART:20180306T110000Z
DTEND:20180306T114500Z
TZID:UTC
LOCATION:
SUMMARY:Composites and Metals: Exploring Two Complementary 3D Printing Technologies 
DESCRIPTION:Tuesday\,  March 6\,  2018 11 &#8211; 11:45am EST | 4 &#8211; 4:45pm UTC From composites to metals\,  Markforged printers deliver industrial quality parts that fill many niches on the production line. This webinar uncovers how the Markforged metal and composite 3D printing technologies can work together to produce diverse\,  precise\,  and[..]\nhttps://www.daystromtechnologies.com/events/composites-metals-exploring-two-complementary-3d-printing-technologies/
URL:https://www.daystromtechnologies.com/events/composites-metals-exploring-two-complementary-3d-printing-technologies/
END:VEVENT
END:VCALENDAR